BEGIN:VCALENDAR
VERSION:2.0
PRODID:-//Rijnmondband Schiedam - ECPv6.15.20//NONSGML v1.0//EN
CALSCALE:GREGORIAN
METHOD:PUBLISH
X-WR-CALNAME:Rijnmondband Schiedam
X-ORIGINAL-URL:https://rijnmondband.nl
X-WR-CALDESC:Evenementen voor Rijnmondband Schiedam
REFRESH-INTERVAL;VALUE=DURATION:PT1H
X-Robots-Tag:noindex
X-PUBLISHED-TTL:PT1H
BEGIN:VTIMEZONE
TZID:Europe/Amsterdam
BEGIN:DAYLIGHT
TZOFFSETFROM:+0100
TZOFFSETTO:+0200
TZNAME:CEST
DTSTART:20250330T010000
END:DAYLIGHT
BEGIN:STANDARD
TZOFFSETFROM:+0200
TZOFFSETTO:+0100
TZNAME:CET
DTSTART:20251026T010000
END:STANDARD
BEGIN:DAYLIGHT
TZOFFSETFROM:+0100
TZOFFSETTO:+0200
TZNAME:CEST
DTSTART:20260329T010000
END:DAYLIGHT
BEGIN:STANDARD
TZOFFSETFROM:+0200
TZOFFSETTO:+0100
TZNAME:CET
DTSTART:20261025T010000
END:STANDARD
BEGIN:DAYLIGHT
TZOFFSETFROM:+0100
TZOFFSETTO:+0200
TZNAME:CEST
DTSTART:20270328T010000
END:DAYLIGHT
BEGIN:STANDARD
TZOFFSETFROM:+0200
TZOFFSETTO:+0100
TZNAME:CET
DTSTART:20271031T010000
END:STANDARD
END:VTIMEZONE
BEGIN:VEVENT
DTSTART;TZID=Europe/Amsterdam:20260425T183000
DTEND;TZID=Europe/Amsterdam:20260425T193000
DTSTAMP:20260420T153240
CREATED:20260318T194942Z
LAST-MODIFIED:20260318T194942Z
UID:5674-1777141800-1777145400@rijnmondband.nl
SUMMARY:JRB - Optocht Bergschenhoek
DESCRIPTION:
URL:https://rijnmondband.nl/agenda/jrb-optocht-bergschenhoek/
LOCATION:Bergschenhoek
CATEGORIES:Jeugd Rijnmondband
END:VEVENT
BEGIN:VEVENT
DTSTART;TZID=Europe/Amsterdam:20260427T123000
DTEND;TZID=Europe/Amsterdam:20260427T130000
DTSTAMP:20260420T153240
CREATED:20260318T194754Z
LAST-MODIFIED:20260318T194754Z
UID:5672-1777293000-1777294800@rijnmondband.nl
SUMMARY:JRB - Koningsspelen Schiedam
DESCRIPTION:
URL:https://rijnmondband.nl/agenda/jrb-koningsspelen-schiedam-2/
LOCATION:Dreesplein Schiedam
CATEGORIES:Jeugd Rijnmondband
END:VEVENT
BEGIN:VEVENT
DTSTART;TZID=Europe/Amsterdam:20260509T090000
DTEND;TZID=Europe/Amsterdam:20260509T213000
DTSTAMP:20260420T153240
CREATED:20260120T194154Z
LAST-MODIFIED:20260120T194154Z
UID:5645-1778317200-1778362200@rijnmondband.nl
SUMMARY:JRB - Jeugd Play-inn en Taptoe Gendt
DESCRIPTION:
URL:https://rijnmondband.nl/agenda/jrb-jeugd-play-inn-en-taptoe-gendt/
LOCATION:Gendt
CATEGORIES:Jeugd Rijnmondband
END:VEVENT
END:VCALENDAR