BEGIN:VCALENDAR
VERSION:2.0
PRODID:-//Rijnmondband Schiedam - ECPv6.15.20//NONSGML v1.0//EN
CALSCALE:GREGORIAN
METHOD:PUBLISH
X-WR-CALNAME:Rijnmondband Schiedam
X-ORIGINAL-URL:https://rijnmondband.nl
X-WR-CALDESC:Evenementen voor Rijnmondband Schiedam
REFRESH-INTERVAL;VALUE=DURATION:PT1H
X-Robots-Tag:noindex
X-PUBLISHED-TTL:PT1H
BEGIN:VTIMEZONE
TZID:Europe/Amsterdam
BEGIN:DAYLIGHT
TZOFFSETFROM:+0100
TZOFFSETTO:+0200
TZNAME:CEST
DTSTART:20230326T010000
END:DAYLIGHT
BEGIN:STANDARD
TZOFFSETFROM:+0200
TZOFFSETTO:+0100
TZNAME:CET
DTSTART:20231029T010000
END:STANDARD
BEGIN:DAYLIGHT
TZOFFSETFROM:+0100
TZOFFSETTO:+0200
TZNAME:CEST
DTSTART:20240331T010000
END:DAYLIGHT
BEGIN:STANDARD
TZOFFSETFROM:+0200
TZOFFSETTO:+0100
TZNAME:CET
DTSTART:20241027T010000
END:STANDARD
BEGIN:DAYLIGHT
TZOFFSETFROM:+0100
TZOFFSETTO:+0200
TZNAME:CEST
DTSTART:20250330T010000
END:DAYLIGHT
BEGIN:STANDARD
TZOFFSETFROM:+0200
TZOFFSETTO:+0100
TZNAME:CET
DTSTART:20251026T010000
END:STANDARD
END:VTIMEZONE
BEGIN:VEVENT
DTSTART;TZID=Europe/Amsterdam:20240915T153000
DTEND;TZID=Europe/Amsterdam:20240915T164500
DTSTAMP:20260421T194928
CREATED:20240827T144329Z
LAST-MODIFIED:20240827T144329Z
UID:4979-1726414200-1726418700@rijnmondband.nl
SUMMARY:RMB3 - Concert Soos Blauwhuis Schiedam
DESCRIPTION:
URL:https://rijnmondband.nl/agenda/rmb3-concert-soos-blauwhuis-schiedam/
LOCATION:Soos Blauwhuis Schiedam
CATEGORIES:Rijnmondband 3
END:VEVENT
BEGIN:VEVENT
DTSTART;VALUE=DATE:20240921
DTEND;VALUE=DATE:20240923
DTSTAMP:20260421T194928
CREATED:20240827T144659Z
LAST-MODIFIED:20240827T144659Z
UID:4982-1726884000-1726970399@rijnmondband.nl
SUMMARY:RMB3 - concert Katwijk
DESCRIPTION:
URL:https://rijnmondband.nl/agenda/rmb3-concert-katwijk/
LOCATION:Katwijk
CATEGORIES:Rijnmondband 3
END:VEVENT
BEGIN:VEVENT
DTSTART;TZID=Europe/Amsterdam:20240929T173000
DTEND;TZID=Europe/Amsterdam:20240929T183000
DTSTAMP:20260421T194928
CREATED:20240827T145127Z
LAST-MODIFIED:20240827T145127Z
UID:4988-1727631000-1727634600@rijnmondband.nl
SUMMARY:RMB3 - concert Brandersfeesten
DESCRIPTION:
URL:https://rijnmondband.nl/agenda/rmb3-concert-brandersfeesten/
LOCATION:Land van Belofte Schiedam
CATEGORIES:Rijnmondband 3
END:VEVENT
END:VCALENDAR