BEGIN:VCALENDAR
VERSION:2.0
PRODID:-//Rijnmondband Schiedam - ECPv6.15.20//NONSGML v1.0//EN
CALSCALE:GREGORIAN
METHOD:PUBLISH
X-ORIGINAL-URL:https://rijnmondband.nl
X-WR-CALDESC:Evenementen voor Rijnmondband Schiedam
REFRESH-INTERVAL;VALUE=DURATION:PT1H
X-Robots-Tag:noindex
X-PUBLISHED-TTL:PT1H
BEGIN:VTIMEZONE
TZID:Europe/Amsterdam
BEGIN:DAYLIGHT
TZOFFSETFROM:+0100
TZOFFSETTO:+0200
TZNAME:CEST
DTSTART:20250330T010000
END:DAYLIGHT
BEGIN:STANDARD
TZOFFSETFROM:+0200
TZOFFSETTO:+0100
TZNAME:CET
DTSTART:20251026T010000
END:STANDARD
BEGIN:DAYLIGHT
TZOFFSETFROM:+0100
TZOFFSETTO:+0200
TZNAME:CEST
DTSTART:20260329T010000
END:DAYLIGHT
BEGIN:STANDARD
TZOFFSETFROM:+0200
TZOFFSETTO:+0100
TZNAME:CET
DTSTART:20261025T010000
END:STANDARD
BEGIN:DAYLIGHT
TZOFFSETFROM:+0100
TZOFFSETTO:+0200
TZNAME:CEST
DTSTART:20270328T010000
END:DAYLIGHT
BEGIN:STANDARD
TZOFFSETFROM:+0200
TZOFFSETTO:+0100
TZNAME:CET
DTSTART:20271031T010000
END:STANDARD
END:VTIMEZONE
BEGIN:VEVENT
DTSTART;TZID=Europe/Amsterdam:20260704T193000
DTEND;TZID=Europe/Amsterdam:20260704T214500
DTSTAMP:20260420T204054
CREATED:20251015T183911Z
LAST-MODIFIED:20251015T183911Z
UID:5490-1783193400-1783201500@rijnmondband.nl
SUMMARY:RMB - Taptoe Tholen
DESCRIPTION:
URL:https://rijnmondband.nl/agenda/rmb-taptoe-tholen/
LOCATION:Tholen
CATEGORIES:Rijnmondband
END:VEVENT
BEGIN:VEVENT
DTSTART;VALUE=DATE:20260717
DTEND;VALUE=DATE:20260720
DTSTAMP:20260420T204054
CREATED:20260120T193557Z
LAST-MODIFIED:20260120T193557Z
UID:5635-1784246400-1784505599@rijnmondband.nl
SUMMARY:RMB - Wereld Muziek Concours
DESCRIPTION:
URL:https://rijnmondband.nl/agenda/rmb-wereld-muziek-concours/
LOCATION:Kerkrade
CATEGORIES:Rijnmondband
END:VEVENT
END:VCALENDAR