BEGIN:VCALENDAR
VERSION:2.0
PRODID:-//Rijnmondband Schiedam - ECPv6.15.20//NONSGML v1.0//EN
CALSCALE:GREGORIAN
METHOD:PUBLISH
X-WR-CALNAME:Rijnmondband Schiedam
X-ORIGINAL-URL:https://rijnmondband.nl
X-WR-CALDESC:Evenementen voor Rijnmondband Schiedam
REFRESH-INTERVAL;VALUE=DURATION:PT1H
X-Robots-Tag:noindex
X-PUBLISHED-TTL:PT1H
BEGIN:VTIMEZONE
TZID:Europe/Amsterdam
BEGIN:DAYLIGHT
TZOFFSETFROM:+0100
TZOFFSETTO:+0200
TZNAME:CEST
DTSTART:20250330T010000
END:DAYLIGHT
BEGIN:STANDARD
TZOFFSETFROM:+0200
TZOFFSETTO:+0100
TZNAME:CET
DTSTART:20251026T010000
END:STANDARD
BEGIN:DAYLIGHT
TZOFFSETFROM:+0100
TZOFFSETTO:+0200
TZNAME:CEST
DTSTART:20260329T010000
END:DAYLIGHT
BEGIN:STANDARD
TZOFFSETFROM:+0200
TZOFFSETTO:+0100
TZNAME:CET
DTSTART:20261025T010000
END:STANDARD
BEGIN:DAYLIGHT
TZOFFSETFROM:+0100
TZOFFSETTO:+0200
TZNAME:CEST
DTSTART:20270328T010000
END:DAYLIGHT
BEGIN:STANDARD
TZOFFSETFROM:+0200
TZOFFSETTO:+0100
TZNAME:CET
DTSTART:20271031T010000
END:STANDARD
END:VTIMEZONE
BEGIN:VEVENT
DTSTART;TZID=Europe/Amsterdam:20261108T150000
DTEND;TZID=Europe/Amsterdam:20261108T170000
DTSTAMP:20260421T020619
CREATED:20260318T195638Z
LAST-MODIFIED:20260318T195638Z
UID:5684-1794150000-1794157200@rijnmondband.nl
SUMMARY:RMB - Optocht Avelgem (B)
DESCRIPTION:
URL:https://rijnmondband.nl/agenda/rmb-optocht-avelgem-b/
LOCATION:Avelgem (B)
CATEGORIES:Rijnmondband
END:VEVENT
BEGIN:VEVENT
DTSTART;TZID=Europe/Amsterdam:20261114T124500
DTEND;TZID=Europe/Amsterdam:20261114T134500
DTSTAMP:20260421T020619
CREATED:20260318T195857Z
LAST-MODIFIED:20260318T195857Z
UID:5687-1794660300-1794663900@rijnmondband.nl
SUMMARY:RMB - Sinterklaas Intocht Dordrecht
DESCRIPTION:
URL:https://rijnmondband.nl/agenda/rmb-sinterklaas-intocht-dordrecht/
LOCATION:Dordrecht
CATEGORIES:Rijnmondband
END:VEVENT
END:VCALENDAR