BEGIN:VCALENDAR
VERSION:2.0
PRODID:-//Rijnmondband Schiedam - ECPv6.15.20//NONSGML v1.0//EN
CALSCALE:GREGORIAN
METHOD:PUBLISH
X-ORIGINAL-URL:https://rijnmondband.nl
X-WR-CALDESC:Evenementen voor Rijnmondband Schiedam
REFRESH-INTERVAL;VALUE=DURATION:PT1H
X-Robots-Tag:noindex
X-PUBLISHED-TTL:PT1H
BEGIN:VTIMEZONE
TZID:Europe/Amsterdam
BEGIN:DAYLIGHT
TZOFFSETFROM:+0100
TZOFFSETTO:+0200
TZNAME:CEST
DTSTART:20250330T010000
END:DAYLIGHT
BEGIN:STANDARD
TZOFFSETFROM:+0200
TZOFFSETTO:+0100
TZNAME:CET
DTSTART:20251026T010000
END:STANDARD
BEGIN:DAYLIGHT
TZOFFSETFROM:+0100
TZOFFSETTO:+0200
TZNAME:CEST
DTSTART:20260329T010000
END:DAYLIGHT
BEGIN:STANDARD
TZOFFSETFROM:+0200
TZOFFSETTO:+0100
TZNAME:CET
DTSTART:20261025T010000
END:STANDARD
BEGIN:DAYLIGHT
TZOFFSETFROM:+0100
TZOFFSETTO:+0200
TZNAME:CEST
DTSTART:20270328T010000
END:DAYLIGHT
BEGIN:STANDARD
TZOFFSETFROM:+0200
TZOFFSETTO:+0100
TZNAME:CET
DTSTART:20271031T010000
END:STANDARD
END:VTIMEZONE
BEGIN:VEVENT
DTSTART;TZID=Europe/Amsterdam:20260427T193000
DTEND;TZID=Europe/Amsterdam:20260427T210000
DTSTAMP:20260420T153258
CREATED:20251015T183746Z
LAST-MODIFIED:20251015T183746Z
UID:5488-1777318200-1777323600@rijnmondband.nl
SUMMARY:RMB - Taptoe Hendrik-Ido-Ambacht
DESCRIPTION:
URL:https://rijnmondband.nl/agenda/rmb-taptoe-hendrik-ido-ambacht-2/
LOCATION:Hendrik-Ido-Ambacht
CATEGORIES:Rijnmondband
END:VEVENT
BEGIN:VEVENT
DTSTART;TZID=Europe/Amsterdam:20260502T140000
DTEND;TZID=Europe/Amsterdam:20260502T183000
DTSTAMP:20260420T153258
CREATED:20260120T193340Z
LAST-MODIFIED:20260120T193340Z
UID:5630-1777730400-1777746600@rijnmondband.nl
SUMMARY:RMB - Jubileum Festival WIK Oostende
DESCRIPTION:
URL:https://rijnmondband.nl/agenda/rmb-jubileum-festival-wik-oostende/
LOCATION:Oostende (B)
CATEGORIES:Rijnmondband
END:VEVENT
BEGIN:VEVENT
DTSTART;TZID=Europe/Amsterdam:20260504T193000
DTEND;TZID=Europe/Amsterdam:20260504T203000
DTSTAMP:20260420T153258
CREATED:20251015T183408Z
LAST-MODIFIED:20251015T183408Z
UID:5483-1777923000-1777926600@rijnmondband.nl
SUMMARY:RMB - Dodenherdenking Schiedam
DESCRIPTION:RMB
URL:https://rijnmondband.nl/agenda/rmb-dodenherdenking-schiedam-4/
LOCATION:Plantage Schiedam
CATEGORIES:Rijnmondband
END:VEVENT
BEGIN:VEVENT
DTSTART;TZID=Europe/Amsterdam:20260523T190000
DTEND;TZID=Europe/Amsterdam:20260523T230000
DTSTAMP:20260420T153258
CREATED:20251015T183529Z
LAST-MODIFIED:20251028T193128Z
UID:5485-1779562800-1779577200@rijnmondband.nl
SUMMARY:RMB - Taptoe Hamont (B)
DESCRIPTION:
URL:https://rijnmondband.nl/agenda/rmb-taptoe-hamont-b/
LOCATION:Hamont (B)
CATEGORIES:Rijnmondband
END:VEVENT
BEGIN:VEVENT
DTSTART;TZID=Europe/Amsterdam:20260620T200000
DTEND;TZID=Europe/Amsterdam:20260620T223000
DTSTAMP:20260420T153258
CREATED:20260120T193458Z
LAST-MODIFIED:20260120T193458Z
UID:5632-1781985600-1781994600@rijnmondband.nl
SUMMARY:RMB - Taptoe Putten
DESCRIPTION:
URL:https://rijnmondband.nl/agenda/rmb-taptoe-putten/
LOCATION:Putten
CATEGORIES:Rijnmondband
END:VEVENT
BEGIN:VEVENT
DTSTART;VALUE=DATE:20260627
DTEND;VALUE=DATE:20260629
DTSTAMP:20260420T153258
CREATED:20260318T195349Z
LAST-MODIFIED:20260318T195349Z
UID:5679-1782518400-1782691199@rijnmondband.nl
SUMMARY:RMB - Weekendoptreden Beauvais (F)
DESCRIPTION:
URL:https://rijnmondband.nl/agenda/rmb-weekendoptreden-beauvais-f/
LOCATION:Beauvais (F)
CATEGORIES:Rijnmondband
END:VEVENT
BEGIN:VEVENT
DTSTART;TZID=Europe/Amsterdam:20260704T193000
DTEND;TZID=Europe/Amsterdam:20260704T214500
DTSTAMP:20260420T153258
CREATED:20251015T183911Z
LAST-MODIFIED:20251015T183911Z
UID:5490-1783193400-1783201500@rijnmondband.nl
SUMMARY:RMB - Taptoe Tholen
DESCRIPTION:
URL:https://rijnmondband.nl/agenda/rmb-taptoe-tholen/
LOCATION:Tholen
CATEGORIES:Rijnmondband
END:VEVENT
BEGIN:VEVENT
DTSTART;VALUE=DATE:20260717
DTEND;VALUE=DATE:20260720
DTSTAMP:20260420T153258
CREATED:20260120T193557Z
LAST-MODIFIED:20260120T193557Z
UID:5635-1784246400-1784505599@rijnmondband.nl
SUMMARY:RMB - Wereld Muziek Concours
DESCRIPTION:
URL:https://rijnmondband.nl/agenda/rmb-wereld-muziek-concours/
LOCATION:Kerkrade
CATEGORIES:Rijnmondband
END:VEVENT
BEGIN:VEVENT
DTSTART;TZID=Europe/Amsterdam:20260829T140000
DTEND;TZID=Europe/Amsterdam:20260829T230000
DTSTAMP:20260420T153258
CREATED:20260207T155644Z
LAST-MODIFIED:20260207T155644Z
UID:5657-1788012000-1788044400@rijnmondband.nl
SUMMARY:RMB - Bloemencorso Vollenhove
DESCRIPTION:
URL:https://rijnmondband.nl/agenda/rmb-bloemencorso-vollenhove/
LOCATION:Vollenhove
CATEGORIES:Rijnmondband
END:VEVENT
BEGIN:VEVENT
DTSTART;TZID=Europe/Amsterdam:20260906T141500
DTEND;TZID=Europe/Amsterdam:20260906T180000
DTSTAMP:20260420T153258
CREATED:20260120T193727Z
LAST-MODIFIED:20260120T193727Z
UID:5638-1788704100-1788717600@rijnmondband.nl
SUMMARY:RMB - Bloemencorso Dendermonde
DESCRIPTION:
URL:https://rijnmondband.nl/agenda/rmb-bloemencorso-dendermonde/
LOCATION:Dendermonde (B)
CATEGORIES:Rijnmondband
END:VEVENT
BEGIN:VEVENT
DTSTART;TZID=Europe/Amsterdam:20260912T200000
DTEND;TZID=Europe/Amsterdam:20260912T220000
DTSTAMP:20260420T153258
CREATED:20260318T195510Z
LAST-MODIFIED:20260318T195510Z
UID:5682-1789243200-1789250400@rijnmondband.nl
SUMMARY:RMB - Lampionnenoptocht Hellevoetsluis
DESCRIPTION:
URL:https://rijnmondband.nl/agenda/rmb-lampionnenoptocht-hellevoetsluis/
LOCATION:Hellevoetsluis
CATEGORIES:Rijnmondband
END:VEVENT
BEGIN:VEVENT
DTSTART;TZID=Europe/Amsterdam:20260919T200000
DTEND;TZID=Europe/Amsterdam:20260919T223000
DTSTAMP:20260420T153258
CREATED:20251015T184036Z
LAST-MODIFIED:20251015T184036Z
UID:5493-1789848000-1789857000@rijnmondband.nl
SUMMARY:RMB - Airborn Taptoe Oosterbeek
DESCRIPTION:
URL:https://rijnmondband.nl/agenda/rmb-airborn-taptoe-oosterbeek/
LOCATION:Oosterbeek
CATEGORIES:Rijnmondband
END:VEVENT
BEGIN:VEVENT
DTSTART;TZID=Europe/Amsterdam:20260927T110000
DTEND;TZID=Europe/Amsterdam:20260927T183000
DTSTAMP:20260420T153258
CREATED:20260207T155824Z
LAST-MODIFIED:20260207T155824Z
UID:5660-1790506800-1790533800@rijnmondband.nl
SUMMARY:RMB - Optocht Duinkerke (F)
DESCRIPTION:
URL:https://rijnmondband.nl/agenda/rmb-optocht-duinkerke-f/
LOCATION:Duinkerke (F)
CATEGORIES:Rijnmondband
END:VEVENT
BEGIN:VEVENT
DTSTART;TZID=Europe/Amsterdam:20261108T150000
DTEND;TZID=Europe/Amsterdam:20261108T170000
DTSTAMP:20260420T153258
CREATED:20260318T195638Z
LAST-MODIFIED:20260318T195638Z
UID:5684-1794150000-1794157200@rijnmondband.nl
SUMMARY:RMB - Optocht Avelgem (B)
DESCRIPTION:
URL:https://rijnmondband.nl/agenda/rmb-optocht-avelgem-b/
LOCATION:Avelgem (B)
CATEGORIES:Rijnmondband
END:VEVENT
BEGIN:VEVENT
DTSTART;TZID=Europe/Amsterdam:20261114T124500
DTEND;TZID=Europe/Amsterdam:20261114T134500
DTSTAMP:20260420T153258
CREATED:20260318T195857Z
LAST-MODIFIED:20260318T195857Z
UID:5687-1794660300-1794663900@rijnmondband.nl
SUMMARY:RMB - Sinterklaas Intocht Dordrecht
DESCRIPTION:
URL:https://rijnmondband.nl/agenda/rmb-sinterklaas-intocht-dordrecht/
LOCATION:Dordrecht
CATEGORIES:Rijnmondband
END:VEVENT
END:VCALENDAR