BEGIN:VCALENDAR
VERSION:2.0
PRODID:-//Rijnmondband Schiedam - ECPv6.15.20//NONSGML v1.0//EN
CALSCALE:GREGORIAN
METHOD:PUBLISH
X-ORIGINAL-URL:https://rijnmondband.nl
X-WR-CALDESC:Evenementen voor Rijnmondband Schiedam
REFRESH-INTERVAL;VALUE=DURATION:PT1H
X-Robots-Tag:noindex
X-PUBLISHED-TTL:PT1H
BEGIN:VTIMEZONE
TZID:Europe/Amsterdam
BEGIN:DAYLIGHT
TZOFFSETFROM:+0100
TZOFFSETTO:+0200
TZNAME:CEST
DTSTART:20220327T010000
END:DAYLIGHT
BEGIN:STANDARD
TZOFFSETFROM:+0200
TZOFFSETTO:+0100
TZNAME:CET
DTSTART:20221030T010000
END:STANDARD
BEGIN:DAYLIGHT
TZOFFSETFROM:+0100
TZOFFSETTO:+0200
TZNAME:CEST
DTSTART:20230326T010000
END:DAYLIGHT
BEGIN:STANDARD
TZOFFSETFROM:+0200
TZOFFSETTO:+0100
TZNAME:CET
DTSTART:20231029T010000
END:STANDARD
BEGIN:DAYLIGHT
TZOFFSETFROM:+0100
TZOFFSETTO:+0200
TZNAME:CEST
DTSTART:20240331T010000
END:DAYLIGHT
BEGIN:STANDARD
TZOFFSETFROM:+0200
TZOFFSETTO:+0100
TZNAME:CET
DTSTART:20241027T010000
END:STANDARD
BEGIN:DAYLIGHT
TZOFFSETFROM:+0100
TZOFFSETTO:+0200
TZNAME:CEST
DTSTART:20250330T010000
END:DAYLIGHT
BEGIN:STANDARD
TZOFFSETFROM:+0200
TZOFFSETTO:+0100
TZNAME:CET
DTSTART:20251026T010000
END:STANDARD
END:VTIMEZONE
BEGIN:VEVENT
DTSTART;TZID=Europe/Amsterdam:20230721T140000
DTEND;TZID=Europe/Amsterdam:20230721T200000
DTSTAMP:20260424T164946
CREATED:20230319T185747Z
LAST-MODIFIED:20230507T141536Z
UID:4236-1689948000-1689969600@rijnmondband.nl
SUMMARY:RMB - Streetparade Nijmeegse vierdaagse
DESCRIPTION:
URL:https://rijnmondband.nl/agenda/rmb-streetparade-nijmeegse-vierdaagse/
LOCATION:Nijmegen
CATEGORIES:Rijnmondband
END:VEVENT
BEGIN:VEVENT
DTSTART;TZID=Europe/Amsterdam:20230812T150000
DTEND;TZID=Europe/Amsterdam:20230813T003000
DTSTAMP:20260424T164946
CREATED:20230319T185854Z
LAST-MODIFIED:20230507T142043Z
UID:4239-1691852400-1691886600@rijnmondband.nl
SUMMARY:RMB - Taptoe en Corso Rijnsburg
DESCRIPTION:
URL:https://rijnmondband.nl/agenda/rmb-taptoe-en-corso-rijnsburg/
LOCATION:Rijnsburg
CATEGORIES:Rijnmondband
END:VEVENT
BEGIN:VEVENT
DTSTART;TZID=Europe/Amsterdam:20230902T220000
DTEND;TZID=Europe/Amsterdam:20230903T193000
DTSTAMP:20260424T164946
CREATED:20230507T142108Z
LAST-MODIFIED:20230507T142429Z
UID:4308-1693692000-1693769400@rijnmondband.nl
SUMMARY:RMB - Taptoe en defilé Liévin (F)
DESCRIPTION:
URL:https://rijnmondband.nl/agenda/rmb-taptoe-en-defile-lievin-f/
LOCATION:Liévin (F)
CATEGORIES:Rijnmondband
END:VEVENT
BEGIN:VEVENT
DTSTART;TZID=Europe/Amsterdam:20230910T160000
DTEND;TZID=Europe/Amsterdam:20230910T193000
DTSTAMP:20260424T164946
CREATED:20230507T142445Z
LAST-MODIFIED:20230507T142721Z
UID:4311-1694361600-1694374200@rijnmondband.nl
SUMMARY:RMB - Bloemencorso Loenhout (B)
DESCRIPTION:
URL:https://rijnmondband.nl/agenda/rmb-bloemencorso-loenhout-b/
LOCATION:Loenhout (B)
CATEGORIES:Rijnmondband
END:VEVENT
BEGIN:VEVENT
DTSTART;TZID=Europe/Amsterdam:20230916T220000
DTEND;TZID=Europe/Amsterdam:20230917T003000
DTSTAMP:20260424T164946
CREATED:20230507T142731Z
LAST-MODIFIED:20230507T143557Z
UID:4314-1694901600-1694910600@rijnmondband.nl
SUMMARY:JRB + RMB - Taptoe Purmerend
DESCRIPTION:
URL:https://rijnmondband.nl/agenda/jrb-rmb-taptoe-purmerend/
LOCATION:Purmerend
CATEGORIES:Jeugd Rijnmondband,Rijnmondband
END:VEVENT
BEGIN:VEVENT
DTSTART;VALUE=DATE:20230923
DTEND;VALUE=DATE:20230925
DTSTAMP:20260424T164946
CREATED:20230507T143617Z
LAST-MODIFIED:20230507T143658Z
UID:4318-1695434400-1695520799@rijnmondband.nl
SUMMARY:RMB - Taptoe Lisse
DESCRIPTION:
URL:https://rijnmondband.nl/agenda/rmb-taptoe-lisse/
LOCATION:Lisse
CATEGORIES:Rijnmondband
END:VEVENT
BEGIN:VEVENT
DTSTART;VALUE=DATE:20231006
DTEND;VALUE=DATE:20231008
DTSTAMP:20260424T164946
CREATED:20230828T142816Z
LAST-MODIFIED:20230828T142816Z
UID:4445-1696557600-1696643999@rijnmondband.nl
SUMMARY:RMB - Furieade Maassluis
DESCRIPTION:
URL:https://rijnmondband.nl/agenda/rmb-furieade-maassluis/
CATEGORIES:Rijnmondband
END:VEVENT
BEGIN:VEVENT
DTSTART;TZID=Europe/Amsterdam:20231007T210000
DTEND;TZID=Europe/Amsterdam:20231008T000000
DTSTAMP:20260424T164946
CREATED:20230507T143839Z
LAST-MODIFIED:20230507T144008Z
UID:4321-1696712400-1696723200@rijnmondband.nl
SUMMARY:RMB - Taptoe Ede
DESCRIPTION:
URL:https://rijnmondband.nl/agenda/rmb-taptoe-ede/
LOCATION:Ede
CATEGORIES:Rijnmondband
END:VEVENT
BEGIN:VEVENT
DTSTART;TZID=Europe/Amsterdam:20231013T221500
DTEND;TZID=Europe/Amsterdam:20231014T001500
DTSTAMP:20260424T164946
CREATED:20230921T152633Z
LAST-MODIFIED:20230921T152633Z
UID:4482-1697235300-1697242500@rijnmondband.nl
SUMMARY:RMB - Open repetitie
DESCRIPTION:
URL:https://rijnmondband.nl/agenda/rmb-open-repetitie/
LOCATION:Van Deventerstraat 34
CATEGORIES:Rijnmondband
END:VEVENT
BEGIN:VEVENT
DTSTART;VALUE=DATE:20231118
DTEND;VALUE=DATE:20231120
DTSTAMP:20260424T164946
CREATED:20230828T142959Z
LAST-MODIFIED:20230828T143735Z
UID:4447-1700269200-1700355599@rijnmondband.nl
SUMMARY:RMB + JRB + RMB3 - Verenigingsconcert Schiedam
DESCRIPTION:
URL:https://rijnmondband.nl/agenda/rmb-jrb-rmb3-verenigingsconcert-schiedam/
LOCATION:Groenoordhal Schiedam
CATEGORIES:Jeugd Rijnmondband,Rijnmondband,Rijnmondband 3
END:VEVENT
BEGIN:VEVENT
DTSTART;TZID=Europe/Amsterdam:20231126T140000
DTEND;TZID=Europe/Amsterdam:20231126T143000
DTSTAMP:20260424T164946
CREATED:20231110T141717Z
LAST-MODIFIED:20231110T141717Z
UID:4610-1701007200-1701009000@rijnmondband.nl
SUMMARY:RMB - Sinterklaasoptocht Schiedam Bijdorp
DESCRIPTION:
URL:https://rijnmondband.nl/agenda/rmb-sinterklaasoptocht-schiedam-bijdorp/
LOCATION:Bijdorp Schiedam
CATEGORIES:Rijnmondband
END:VEVENT
BEGIN:VEVENT
DTSTART;VALUE=DATE:20231209
DTEND;VALUE=DATE:20231211
DTSTAMP:20260424T164946
CREATED:20230828T143113Z
LAST-MODIFIED:20230828T143113Z
UID:4450-1702083600-1702169999@rijnmondband.nl
SUMMARY:JRB + RMB - Lampionnenoptocht Zuidland
DESCRIPTION:
URL:https://rijnmondband.nl/agenda/jrb-rmb-lampionnenoptocht-zuidland-2/
CATEGORIES:Jeugd Rijnmondband,Rijnmondband
END:VEVENT
BEGIN:VEVENT
DTSTART;VALUE=DATE:20231217
DTEND;VALUE=DATE:20231219
DTSTAMP:20260424T164946
CREATED:20230828T143259Z
LAST-MODIFIED:20230921T145553Z
UID:4452-1702774800-1702861199@rijnmondband.nl
SUMMARY:RMB - Kerstsamenzang Schiedam
DESCRIPTION:
URL:https://rijnmondband.nl/agenda/rmb-kerstsamenzang-schiedam/
LOCATION:Grote of Sint Janskerk Schiedam
CATEGORIES:Rijnmondband
END:VEVENT
BEGIN:VEVENT
DTSTART;TZID=Europe/Amsterdam:20240413T130000
DTEND;TZID=Europe/Amsterdam:20240414T200000
DTSTAMP:20260424T164946
CREATED:20240120T190918Z
LAST-MODIFIED:20240120T190918Z
UID:4649-1713013200-1713124800@rijnmondband.nl
SUMMARY:RMB - Weekendoptreden Cholet (F)
DESCRIPTION:
URL:https://rijnmondband.nl/agenda/rmb-weekendoptreden-cholet-f/
LOCATION:Cholet (F)
CATEGORIES:Rijnmondband
END:VEVENT
BEGIN:VEVENT
DTSTART;VALUE=DATE:20240420
DTEND;VALUE=DATE:20240422
DTSTAMP:20260424T164946
CREATED:20240120T191039Z
LAST-MODIFIED:20240120T191039Z
UID:4652-1713578400-1713664799@rijnmondband.nl
SUMMARY:JRB - RMB - RMB3 - Opening Seizoen Schiedam
DESCRIPTION:
URL:https://rijnmondband.nl/agenda/jrb-rmb-rmb3-opening-seizoen-schiedam/
LOCATION:Schiedam
CATEGORIES:Jeugd Rijnmondband,Rijnmondband,Rijnmondband 3
END:VEVENT
BEGIN:VEVENT
DTSTART;VALUE=DATE:20240427
DTEND;VALUE=DATE:20240429
DTSTAMP:20260424T164946
CREATED:20240205T153246Z
LAST-MODIFIED:20240205T153246Z
UID:4683-1714183200-1714269599@rijnmondband.nl
SUMMARY:JRB - RMB - RMB3 - Koningsdag Schiedam
DESCRIPTION:
URL:https://rijnmondband.nl/agenda/jrb-rmb-rmb3-koningsdag-schiedam/
LOCATION:Schiedam
CATEGORIES:Jeugd Rijnmondband,Rijnmondband,Rijnmondband 3
END:VEVENT
BEGIN:VEVENT
DTSTART;TZID=Europe/Amsterdam:20240427T213000
DTEND;TZID=Europe/Amsterdam:20240427T230000
DTSTAMP:20260424T164946
CREATED:20240120T191324Z
LAST-MODIFIED:20240120T191324Z
UID:4654-1714253400-1714258800@rijnmondband.nl
SUMMARY:RMB - Taptoe Hendrik-Ido-Ambacht
DESCRIPTION:
URL:https://rijnmondband.nl/agenda/rmb-taptoe-hendrik-ido-ambacht/
LOCATION:Hendrik-Ido-Ambacht
CATEGORIES:Rijnmondband
END:VEVENT
BEGIN:VEVENT
DTSTART;TZID=Europe/Amsterdam:20240428T150000
DTEND;TZID=Europe/Amsterdam:20240428T190000
DTSTAMP:20260424T164946
CREATED:20240403T144226Z
LAST-MODIFIED:20240403T144226Z
UID:4708-1714316400-1714330800@rijnmondband.nl
SUMMARY:RMB - Streetparade Bergen op Zoom
DESCRIPTION:
URL:https://rijnmondband.nl/agenda/rmb-streetparade-bergen-op-zoom/
LOCATION:Bergen op Zoom
CATEGORIES:Rijnmondband
END:VEVENT
BEGIN:VEVENT
DTSTART;TZID=Europe/Amsterdam:20240504T213000
DTEND;TZID=Europe/Amsterdam:20240504T223000
DTSTAMP:20260424T164946
CREATED:20240120T191540Z
LAST-MODIFIED:20240120T191540Z
UID:4657-1714858200-1714861800@rijnmondband.nl
SUMMARY:RMB - Dodenherdenking Schiedam
DESCRIPTION:
URL:https://rijnmondband.nl/agenda/rmb-dodenherdenking-schiedam-2/
LOCATION:Plantage Schiedam
CATEGORIES:Rijnmondband
END:VEVENT
BEGIN:VEVENT
DTSTART;TZID=Europe/Amsterdam:20240509T170000
DTEND;TZID=Europe/Amsterdam:20240509T200000
DTSTAMP:20260424T164946
CREATED:20240403T144557Z
LAST-MODIFIED:20240403T144557Z
UID:4714-1715274000-1715284800@rijnmondband.nl
SUMMARY:RMB - Optocht Somain (F)
DESCRIPTION:
URL:https://rijnmondband.nl/agenda/rmb-optocht-somain-f/
LOCATION:Somain (F)
CATEGORIES:Rijnmondband
END:VEVENT
BEGIN:VEVENT
DTSTART;TZID=Europe/Amsterdam:20240608T220000
DTEND;TZID=Europe/Amsterdam:20240609T010000
DTSTAMP:20260424T164946
CREATED:20240120T191759Z
LAST-MODIFIED:20240120T191759Z
UID:4660-1717884000-1717894800@rijnmondband.nl
SUMMARY:JRB - RMB - RMB3 - Jubileumtaptoe Rijnmondband
DESCRIPTION:
URL:https://rijnmondband.nl/agenda/jrb-rmb-rmb3-jubileumtaptoe-rijnmondband/
LOCATION:HCS Schiedam\, Olympiaweg 63\, Schiedam\, 3118 JD
CATEGORIES:Jeugd Rijnmondband,Rijnmondband,Rijnmondband 3
END:VEVENT
BEGIN:VEVENT
DTSTART;TZID=Europe/Amsterdam:20240614T220000
DTEND;TZID=Europe/Amsterdam:20240615T001500
DTSTAMP:20260424T164946
CREATED:20240602T161957Z
LAST-MODIFIED:20240602T161957Z
UID:4903-1718402400-1718410500@rijnmondband.nl
SUMMARY:RMB - Open marsrepetitie
DESCRIPTION:
URL:https://rijnmondband.nl/agenda/rmb-open-marsrepetitie/
LOCATION:Korfbalvereniging Nexus\, Parkweg 411\, Schiedam\, 3121KK
CATEGORIES:Rijnmondband
END:VEVENT
BEGIN:VEVENT
DTSTART;TZID=Europe/Amsterdam:20240622T220000
DTEND;TZID=Europe/Amsterdam:20240623T010000
DTSTAMP:20260424T164946
CREATED:20240403T144708Z
LAST-MODIFIED:20240403T144708Z
UID:4717-1719093600-1719104400@rijnmondband.nl
SUMMARY:JRB + RMB - Taptoe Hoogvliet
DESCRIPTION:
URL:https://rijnmondband.nl/agenda/jrb-rmb-taptoe-hoogvliet/
LOCATION:Hoogvliet
CATEGORIES:Jeugd Rijnmondband,Rijnmondband
END:VEVENT
BEGIN:VEVENT
DTSTART;VALUE=DATE:20240901
DTEND;VALUE=DATE:20240903
DTSTAMP:20260424T164946
CREATED:20240602T162216Z
LAST-MODIFIED:20240602T162216Z
UID:4908-1725156000-1725242399@rijnmondband.nl
SUMMARY:RMB - Optocht Valenciennes (F)
DESCRIPTION:
URL:https://rijnmondband.nl/agenda/rmb-optocht-valenciennes-f/
LOCATION:Valenciennes (F)
CATEGORIES:Rijnmondband
END:VEVENT
BEGIN:VEVENT
DTSTART;TZID=Europe/Amsterdam:20240907T160000
DTEND;TZID=Europe/Amsterdam:20240907T174500
DTSTAMP:20260424T164946
CREATED:20240510T103756Z
LAST-MODIFIED:20240510T103756Z
UID:4829-1725724800-1725731100@rijnmondband.nl
SUMMARY:RMB - Taptoe Sint-Niklaas (B)
DESCRIPTION:
URL:https://rijnmondband.nl/agenda/rmb-taptoe-sint-niklaas-b/
LOCATION:Sint-Niklaas (B)
CATEGORIES:Rijnmondband
END:VEVENT
BEGIN:VEVENT
DTSTART;TZID=Europe/Amsterdam:20240907T223000
DTEND;TZID=Europe/Amsterdam:20240908T010000
DTSTAMP:20260424T164946
CREATED:20240510T103910Z
LAST-MODIFIED:20240510T103910Z
UID:4832-1725748200-1725757200@rijnmondband.nl
SUMMARY:RMB - Taptoe Maubeuge (F)
DESCRIPTION:
URL:https://rijnmondband.nl/agenda/rmb-taptoe-maubeuge-f/
LOCATION:Maubeuge (F)
CATEGORIES:Rijnmondband
END:VEVENT
BEGIN:VEVENT
DTSTART;TZID=Europe/Amsterdam:20240908T160000
DTEND;TZID=Europe/Amsterdam:20240908T200000
DTSTAMP:20260424T164946
CREATED:20240120T192046Z
LAST-MODIFIED:20240120T192046Z
UID:4663-1725811200-1725825600@rijnmondband.nl
SUMMARY:RMB - Taptoe Hechtel-Eksel (B)
DESCRIPTION:
URL:https://rijnmondband.nl/agenda/rmb-taptoe-hechtel-eksel-b/
LOCATION:Hechtel-Eksel
CATEGORIES:Rijnmondband
END:VEVENT
BEGIN:VEVENT
DTSTART;TZID=Europe/Amsterdam:20240913T221500
DTEND;TZID=Europe/Amsterdam:20240914T001500
DTSTAMP:20260424T164946
CREATED:20240602T162104Z
LAST-MODIFIED:20240602T162104Z
UID:4906-1726265700-1726272900@rijnmondband.nl
SUMMARY:RMB - Open repetitie
DESCRIPTION:
URL:https://rijnmondband.nl/agenda/rmb-open-repetitie-2/
LOCATION:Van Deventerstraat 34
CATEGORIES:Rijnmondband
END:VEVENT
BEGIN:VEVENT
DTSTART;TZID=Europe/Amsterdam:20240914T140000
DTEND;TZID=Europe/Amsterdam:20240914T190000
DTSTAMP:20260424T164946
CREATED:20240120T192352Z
LAST-MODIFIED:20240403T144807Z
UID:4667-1726322400-1726340400@rijnmondband.nl
SUMMARY:JRB + RMB - Streetparade Vlaardingen
DESCRIPTION:
URL:https://rijnmondband.nl/agenda/rmb-streetparade-vlaardingen/
LOCATION:Vlaardingen
CATEGORIES:Jeugd Rijnmondband,Rijnmondband
END:VEVENT
BEGIN:VEVENT
DTSTART;TZID=Europe/Amsterdam:20240920T220000
DTEND;TZID=Europe/Amsterdam:20240921T000000
DTSTAMP:20260424T164946
CREATED:20240120T192522Z
LAST-MODIFIED:20240120T192522Z
UID:4670-1726869600-1726876800@rijnmondband.nl
SUMMARY:RMB - Taptoe Alblasserdam
DESCRIPTION:
URL:https://rijnmondband.nl/agenda/rmb-taptoe-alblasserdam/
LOCATION:Alblasserdam
CATEGORIES:Rijnmondband
END:VEVENT
END:VCALENDAR