BEGIN:VCALENDAR
VERSION:2.0
PRODID:-//Rijnmondband Schiedam - ECPv6.15.20//NONSGML v1.0//EN
CALSCALE:GREGORIAN
METHOD:PUBLISH
X-WR-CALNAME:Rijnmondband Schiedam
X-ORIGINAL-URL:https://rijnmondband.nl
X-WR-CALDESC:Evenementen voor Rijnmondband Schiedam
REFRESH-INTERVAL;VALUE=DURATION:PT1H
X-Robots-Tag:noindex
X-PUBLISHED-TTL:PT1H
BEGIN:VTIMEZONE
TZID:Europe/Amsterdam
BEGIN:DAYLIGHT
TZOFFSETFROM:+0100
TZOFFSETTO:+0200
TZNAME:CEST
DTSTART:20210328T010000
END:DAYLIGHT
BEGIN:STANDARD
TZOFFSETFROM:+0200
TZOFFSETTO:+0100
TZNAME:CET
DTSTART:20211031T010000
END:STANDARD
BEGIN:DAYLIGHT
TZOFFSETFROM:+0100
TZOFFSETTO:+0200
TZNAME:CEST
DTSTART:20220327T010000
END:DAYLIGHT
BEGIN:STANDARD
TZOFFSETFROM:+0200
TZOFFSETTO:+0100
TZNAME:CET
DTSTART:20221030T010000
END:STANDARD
BEGIN:DAYLIGHT
TZOFFSETFROM:+0100
TZOFFSETTO:+0200
TZNAME:CEST
DTSTART:20230326T010000
END:DAYLIGHT
BEGIN:STANDARD
TZOFFSETFROM:+0200
TZOFFSETTO:+0100
TZNAME:CET
DTSTART:20231029T010000
END:STANDARD
BEGIN:DAYLIGHT
TZOFFSETFROM:+0100
TZOFFSETTO:+0200
TZNAME:CEST
DTSTART:20240331T010000
END:DAYLIGHT
BEGIN:STANDARD
TZOFFSETFROM:+0200
TZOFFSETTO:+0100
TZNAME:CET
DTSTART:20241027T010000
END:STANDARD
END:VTIMEZONE
BEGIN:VEVENT
DTSTART;TZID=Europe/Amsterdam:20230427T153000
DTEND;TZID=Europe/Amsterdam:20230427T173000
DTSTAMP:20260420T204053
CREATED:20230319T190558Z
LAST-MODIFIED:20230319T190558Z
UID:4247-1682609400-1682616600@rijnmondband.nl
SUMMARY:JRB - Koningsdag Streetparade Schiedam
DESCRIPTION:
URL:https://rijnmondband.nl/agenda/jrb-koningsdag-streetparade-schiedam/
LOCATION:Schiedam
CATEGORIES:Jeugd Rijnmondband
END:VEVENT
BEGIN:VEVENT
DTSTART;TZID=Europe/Amsterdam:20230427T134500
DTEND;TZID=Europe/Amsterdam:20230427T194500
DTSTAMP:20260420T204053
CREATED:20230319T185232Z
LAST-MODIFIED:20230319T185232Z
UID:4226-1682603100-1682624700@rijnmondband.nl
SUMMARY:RMB - Taptoe Dordrecht
DESCRIPTION:Koningsdagtaptoe in Dordrecht
URL:https://rijnmondband.nl/agenda/rmb-taptoe-dordrecht/
LOCATION:Dordrecht
END:VEVENT
BEGIN:VEVENT
DTSTART;TZID=Europe/Amsterdam:20230427T114500
DTEND;TZID=Europe/Amsterdam:20230427T124500
DTSTAMP:20260420T204053
CREATED:20230319T185012Z
LAST-MODIFIED:20230319T185012Z
UID:4223-1682595900-1682599500@rijnmondband.nl
SUMMARY:RMB - Koningsdag Streetparade Schiedam
DESCRIPTION:Streetparade door de binnenstad van Schiedam ter ere van Koningsdag.
URL:https://rijnmondband.nl/agenda/rmb-koningsdag-streetparade-schiedam/
LOCATION:Schiedam
END:VEVENT
BEGIN:VEVENT
DTSTART;TZID=Europe/Amsterdam:20230427T113000
DTEND;TZID=Europe/Amsterdam:20230427T133000
DTSTAMP:20260420T204053
CREATED:20230319T190431Z
LAST-MODIFIED:20230319T190431Z
UID:4245-1682595000-1682602200@rijnmondband.nl
SUMMARY:JRB - Streetparade Zuidland
DESCRIPTION:
URL:https://rijnmondband.nl/agenda/jrb-streetparade-zuidland/
LOCATION:Zuidland\, Zuidland\, 2408
CATEGORIES:Jeugd Rijnmondband
END:VEVENT
BEGIN:VEVENT
DTSTART;VALUE=DATE:20230422
DTEND;VALUE=DATE:20230424
DTSTAMP:20260420T204053
CREATED:20230319T190332Z
LAST-MODIFIED:20230319T190332Z
UID:4242-1682128800-1682215199@rijnmondband.nl
SUMMARY:JRB - Zwijndrecht
DESCRIPTION:
URL:https://rijnmondband.nl/agenda/jrb-zwijndrecht/
LOCATION:Zwijndrecht
CATEGORIES:Jeugd Rijnmondband
END:VEVENT
BEGIN:VEVENT
DTSTART;TZID=Europe/Amsterdam:20221210T183000
DTEND;TZID=Europe/Amsterdam:20221210T200000
DTSTAMP:20260420T204053
CREATED:20221119T135147Z
LAST-MODIFIED:20221119T135147Z
UID:4125-1670697000-1670702400@rijnmondband.nl
SUMMARY:JRB & RMB - Lampionnenoptocht Zuidland
DESCRIPTION:Op zaterdagavond verzorgen de JRB en de RMB het muzikale programma bij de lampionnenintocht in Zuidland welke rond 17.30 zal starten. Exacte startlocatie wordt nader bekend gemaakt.
URL:https://rijnmondband.nl/agenda/jrb-rmb-lampionnenoptocht-zuidland/
LOCATION:Zuidland\, Zuidland\, 2408
END:VEVENT
BEGIN:VEVENT
DTSTART;TZID=Europe/Amsterdam:20221125T200000
DTEND;TZID=Europe/Amsterdam:20221125T210000
DTSTAMP:20260420T204053
CREATED:20221119T134639Z
LAST-MODIFIED:20221119T134816Z
UID:4121-1669406400-1669410000@rijnmondband.nl
SUMMARY:JRB - Lichtjestour Poortugaal
DESCRIPTION:Vrijdagavond 25 November verzorgt de Jeugd Rijnmondband de muziek tijdens de lichtjestour in Portugaal. Zijn jullie erbij?
URL:https://rijnmondband.nl/agenda/jrb-sinterklaasoptocht-nieuwenhoorn-copy/
LOCATION:Poortugaal\, Emmastraat 7\, 1Poortugaal
END:VEVENT
BEGIN:VEVENT
DTSTART;TZID=Europe/Amsterdam:20221119T193000
DTEND;TZID=Europe/Amsterdam:20221119T203000
DTSTAMP:20260420T204053
CREATED:20221119T134518Z
LAST-MODIFIED:20221119T134518Z
UID:4114-1668886200-1668889800@rijnmondband.nl
SUMMARY:JRB - Sinterklaasoptocht Nieuwenhoorn
DESCRIPTION:Op zaterdag 19 november loopt de Jeugd Rijnmondband mee met de sinterklaasoptocht in Nieuwenhoorn. Deze optocht zal rond 18.30 starten vanaf een startlocatie die nader bekend wordt gemaakt.
URL:https://rijnmondband.nl/agenda/jrb-sinterklaasoptocht-nieuwenhoorn/
LOCATION:Nieuwenhoorn\, Simon Zwaanpad\, niewnhoorn\, Zuid-holland\, Nederland
END:VEVENT
END:VCALENDAR