BEGIN:VCALENDAR
VERSION:2.0
PRODID:-//Rijnmondband Schiedam - ECPv6.15.20//NONSGML v1.0//EN
CALSCALE:GREGORIAN
METHOD:PUBLISH
X-ORIGINAL-URL:https://rijnmondband.nl
X-WR-CALDESC:Evenementen voor Rijnmondband Schiedam
REFRESH-INTERVAL;VALUE=DURATION:PT1H
X-Robots-Tag:noindex
X-PUBLISHED-TTL:PT1H
BEGIN:VTIMEZONE
TZID:Europe/Amsterdam
BEGIN:DAYLIGHT
TZOFFSETFROM:+0100
TZOFFSETTO:+0200
TZNAME:CEST
DTSTART:20240331T010000
END:DAYLIGHT
BEGIN:STANDARD
TZOFFSETFROM:+0200
TZOFFSETTO:+0100
TZNAME:CET
DTSTART:20241027T010000
END:STANDARD
BEGIN:DAYLIGHT
TZOFFSETFROM:+0100
TZOFFSETTO:+0200
TZNAME:CEST
DTSTART:20250330T010000
END:DAYLIGHT
BEGIN:STANDARD
TZOFFSETFROM:+0200
TZOFFSETTO:+0100
TZNAME:CET
DTSTART:20251026T010000
END:STANDARD
BEGIN:DAYLIGHT
TZOFFSETFROM:+0100
TZOFFSETTO:+0200
TZNAME:CEST
DTSTART:20260329T010000
END:DAYLIGHT
BEGIN:STANDARD
TZOFFSETFROM:+0200
TZOFFSETTO:+0100
TZNAME:CET
DTSTART:20261025T010000
END:STANDARD
END:VTIMEZONE
BEGIN:VEVENT
DTSTART;VALUE=DATE:20250124
DTEND;VALUE=DATE:20250125
DTSTAMP:20260421T094340
CREATED:20250106T200041Z
LAST-MODIFIED:20250106T200041Z
UID:5195-1737676800-1737763199@rijnmondband.nl
SUMMARY:RMB - Musikparade Leipzig (D)
DESCRIPTION:
URL:https://rijnmondband.nl/agenda/rmb-musikparade-leipzig-d/
LOCATION:Leipzig (D)
CATEGORIES:Rijnmondband
END:VEVENT
BEGIN:VEVENT
DTSTART;VALUE=DATE:20250125
DTEND;VALUE=DATE:20250126
DTSTAMP:20260421T094340
CREATED:20250106T200152Z
LAST-MODIFIED:20250106T200152Z
UID:5199-1737763200-1737849599@rijnmondband.nl
SUMMARY:RMB - Musikparade Magdeburg (D)
DESCRIPTION:
URL:https://rijnmondband.nl/agenda/rmb-musikparade-magdeburg-d/
LOCATION:Magdeburg (D)
CATEGORIES:Rijnmondband
END:VEVENT
BEGIN:VEVENT
DTSTART;VALUE=DATE:20250126
DTEND;VALUE=DATE:20250127
DTSTAMP:20260421T094340
CREATED:20250106T200231Z
LAST-MODIFIED:20250106T200231Z
UID:5202-1737849600-1737935999@rijnmondband.nl
SUMMARY:RMB - Musikparade Essen (D)
DESCRIPTION:
URL:https://rijnmondband.nl/agenda/rmb-musikparade-essen-d/
LOCATION:Essen (D)
CATEGORIES:Rijnmondband
END:VEVENT
END:VCALENDAR