BEGIN:VCALENDAR
VERSION:2.0
PRODID:-//Rijnmondband Schiedam - ECPv6.15.20//NONSGML v1.0//EN
CALSCALE:GREGORIAN
METHOD:PUBLISH
X-ORIGINAL-URL:https://rijnmondband.nl
X-WR-CALDESC:Evenementen voor Rijnmondband Schiedam
REFRESH-INTERVAL;VALUE=DURATION:PT1H
X-Robots-Tag:noindex
X-PUBLISHED-TTL:PT1H
BEGIN:VTIMEZONE
TZID:Europe/Amsterdam
BEGIN:DAYLIGHT
TZOFFSETFROM:+0100
TZOFFSETTO:+0200
TZNAME:CEST
DTSTART:20240331T010000
END:DAYLIGHT
BEGIN:STANDARD
TZOFFSETFROM:+0200
TZOFFSETTO:+0100
TZNAME:CET
DTSTART:20241027T010000
END:STANDARD
BEGIN:DAYLIGHT
TZOFFSETFROM:+0100
TZOFFSETTO:+0200
TZNAME:CEST
DTSTART:20250330T010000
END:DAYLIGHT
BEGIN:STANDARD
TZOFFSETFROM:+0200
TZOFFSETTO:+0100
TZNAME:CET
DTSTART:20251026T010000
END:STANDARD
BEGIN:DAYLIGHT
TZOFFSETFROM:+0100
TZOFFSETTO:+0200
TZNAME:CEST
DTSTART:20260329T010000
END:DAYLIGHT
BEGIN:STANDARD
TZOFFSETFROM:+0200
TZOFFSETTO:+0100
TZNAME:CET
DTSTART:20261025T010000
END:STANDARD
END:VTIMEZONE
BEGIN:VEVENT
DTSTART;TZID=Europe/Amsterdam:20250907T153000
DTEND;TZID=Europe/Amsterdam:20250907T190000
DTSTAMP:20260420T232215
CREATED:20250709T190416Z
LAST-MODIFIED:20250709T190416Z
UID:5267-1757259000-1757271600@rijnmondband.nl
SUMMARY:RMB - Taptoe Willebroek (B)
DESCRIPTION:
URL:https://rijnmondband.nl/agenda/rmb-taptoe-willebroek-b/
LOCATION:Willebroek (B)
CATEGORIES:Rijnmondband
END:VEVENT
BEGIN:VEVENT
DTSTART;TZID=Europe/Amsterdam:20250913T123000
DTEND;TZID=Europe/Amsterdam:20250913T160000
DTSTAMP:20260420T232215
CREATED:20250106T202007Z
LAST-MODIFIED:20250812T083051Z
UID:5220-1757766600-1757779200@rijnmondband.nl
SUMMARY:RMB - Streetparade Delft
DESCRIPTION:
URL:https://rijnmondband.nl/agenda/rmb-streetparade-delft/
LOCATION:Delft
CATEGORIES:Rijnmondband
END:VEVENT
BEGIN:VEVENT
DTSTART;TZID=Europe/Amsterdam:20250913T200000
DTEND;TZID=Europe/Amsterdam:20250913T220000
DTSTAMP:20260420T232215
CREATED:20250205T092625Z
LAST-MODIFIED:20250908T191602Z
UID:5238-1757793600-1757800800@rijnmondband.nl
SUMMARY:RMB - Lampionnenoptocht Hellevoetsluis
DESCRIPTION:
URL:https://rijnmondband.nl/agenda/jrb-rmb-lampionnenoptocht-hellevoetsluis/
LOCATION:Hellevoetsluis
CATEGORIES:Rijnmondband
END:VEVENT
BEGIN:VEVENT
DTSTART;TZID=Europe/Amsterdam:20250919T201500
DTEND;TZID=Europe/Amsterdam:20250919T221500
DTSTAMP:20260420T232215
CREATED:20250827T180148Z
LAST-MODIFIED:20250827T180148Z
UID:5325-1758312900-1758320100@rijnmondband.nl
SUMMARY:RMB - Open Repetitie
DESCRIPTION:
URL:https://rijnmondband.nl/agenda/rmb-open-repetitie-3/
LOCATION:Korfbalvereniging Nexus\, Parkweg 411\, Schiedam\, 3121KK
CATEGORIES:Rijnmondband
END:VEVENT
BEGIN:VEVENT
DTSTART;TZID=Europe/Amsterdam:20250920T200000
DTEND;TZID=Europe/Amsterdam:20250920T230000
DTSTAMP:20260420T232215
CREATED:20250709T190817Z
LAST-MODIFIED:20250709T190817Z
UID:5272-1758398400-1758409200@rijnmondband.nl
SUMMARY:RMB - Taptoe Ede
DESCRIPTION:
URL:https://rijnmondband.nl/agenda/rmb-taptoe-ede-3/
LOCATION:Ede
CATEGORIES:Rijnmondband
END:VEVENT
BEGIN:VEVENT
DTSTART;TZID=Europe/Amsterdam:20250926T193000
DTEND;TZID=Europe/Amsterdam:20250926T203000
DTSTAMP:20260420T232215
CREATED:20250709T191051Z
LAST-MODIFIED:20250709T191051Z
UID:5274-1758915000-1758918600@rijnmondband.nl
SUMMARY:JRB + RMB - Lichtjesparade Schiedam
DESCRIPTION:
URL:https://rijnmondband.nl/agenda/jrb-rmb-lichtjesparade-schiedam/
LOCATION:Schiedam
CATEGORIES:Jeugd Rijnmondband,Rijnmondband
END:VEVENT
END:VCALENDAR