BEGIN:VCALENDAR
VERSION:2.0
PRODID:-//Rijnmondband Schiedam - ECPv6.15.20//NONSGML v1.0//EN
CALSCALE:GREGORIAN
METHOD:PUBLISH
X-ORIGINAL-URL:https://rijnmondband.nl
X-WR-CALDESC:Evenementen voor Rijnmondband Schiedam
REFRESH-INTERVAL;VALUE=DURATION:PT1H
X-Robots-Tag:noindex
X-PUBLISHED-TTL:PT1H
BEGIN:VTIMEZONE
TZID:Europe/Amsterdam
BEGIN:DAYLIGHT
TZOFFSETFROM:+0100
TZOFFSETTO:+0200
TZNAME:CEST
DTSTART:20250330T010000
END:DAYLIGHT
BEGIN:STANDARD
TZOFFSETFROM:+0200
TZOFFSETTO:+0100
TZNAME:CET
DTSTART:20251026T010000
END:STANDARD
BEGIN:DAYLIGHT
TZOFFSETFROM:+0100
TZOFFSETTO:+0200
TZNAME:CEST
DTSTART:20260329T010000
END:DAYLIGHT
BEGIN:STANDARD
TZOFFSETFROM:+0200
TZOFFSETTO:+0100
TZNAME:CET
DTSTART:20261025T010000
END:STANDARD
BEGIN:DAYLIGHT
TZOFFSETFROM:+0100
TZOFFSETTO:+0200
TZNAME:CEST
DTSTART:20270328T010000
END:DAYLIGHT
BEGIN:STANDARD
TZOFFSETFROM:+0200
TZOFFSETTO:+0100
TZNAME:CET
DTSTART:20271031T010000
END:STANDARD
END:VTIMEZONE
BEGIN:VEVENT
DTSTART;TZID=Europe/Amsterdam:20260620T200000
DTEND;TZID=Europe/Amsterdam:20260620T223000
DTSTAMP:20260420T164209
CREATED:20260120T193458Z
LAST-MODIFIED:20260120T193458Z
UID:5632-1781985600-1781994600@rijnmondband.nl
SUMMARY:RMB - Taptoe Putten
DESCRIPTION:
URL:https://rijnmondband.nl/agenda/rmb-taptoe-putten/
LOCATION:Putten
CATEGORIES:Rijnmondband
END:VEVENT
BEGIN:VEVENT
DTSTART;VALUE=DATE:20260627
DTEND;VALUE=DATE:20260629
DTSTAMP:20260420T164209
CREATED:20260318T195349Z
LAST-MODIFIED:20260318T195349Z
UID:5679-1782518400-1782691199@rijnmondband.nl
SUMMARY:RMB - Weekendoptreden Beauvais (F)
DESCRIPTION:
URL:https://rijnmondband.nl/agenda/rmb-weekendoptreden-beauvais-f/
LOCATION:Beauvais (F)
CATEGORIES:Rijnmondband
END:VEVENT
END:VCALENDAR